{ "currentVersion": 10.81, "cimVersion": "2.6.0", "serviceDescription": "
Map service of low vegetation (0.5<\/SPAN>m<\/SPAN> to 2m<\/SPAN>) - Data captured from Nearmap on <\/SPAN>21 Jan 2020<\/SPAN><\/P><\/DIV><\/DIV><\/DIV>",
"mapName": "env_2020TreeCanopy0point5mto2m",
"description": " Map service of low vegetation (0.5<\/SPAN>m<\/SPAN> to 2m<\/SPAN>) - Data captured from Nearmap on <\/SPAN>21 Jan 2020<\/SPAN><\/P><\/DIV><\/DIV><\/DIV>",
"copyrightText": "",
"supportsDynamicLayers": true,
"layers": [
{
"id": 0,
"name": "2020 Tree Canopy 0.5 to 2m",
"parentLayerId": -1,
"defaultVisibility": true,
"subLayerIds": null,
"minScale": 0,
"maxScale": 0,
"type": "Feature Layer",
"geometryType": "esriGeometryPolygon",
"supportsDynamicLegends": true
}
],
"tables": [],
"spatialReference": {
"wkid": 7856,
"latestWkid": 7856,
"xyTolerance": 0.001,
"zTolerance": 0.001,
"mTolerance": 0.001,
"falseX": -5120900,
"falseY": 1900,
"xyUnits": 10000,
"falseZ": -100000,
"zUnits": 10000,
"falseM": -100000,
"mUnits": 10000
},
"singleFusedMapCache": true,
"tileInfo": {
"rows": 256,
"cols": 256,
"dpi": 96,
"format": "PNG",
"compressionQuality": 0,
"origin": {
"x": -5120900,
"y": 19998100
},
"spatialReference": {
"wkid": 7856,
"latestWkid": 7856,
"xyTolerance": 0.001,
"zTolerance": 0.001,
"mTolerance": 0.001,
"falseX": -5120900,
"falseY": 1900,
"xyUnits": 10000,
"falseZ": -100000,
"zUnits": 10000,
"falseM": -100000,
"mUnits": 10000
},
"lods": [
{
"level": 0,
"resolution": 19.109040301413938,
"scale": 72223
},
{
"level": 1,
"resolution": 9.554387858775717,
"scale": 36111
},
{
"level": 2,
"resolution": 4.777061637456608,
"scale": 18055
},
{
"level": 3,
"resolution": 2.3883985267970536,
"scale": 9027
},
{
"level": 4,
"resolution": 1.1940669714672763,
"scale": 4513
},
{
"level": 5,
"resolution": 0.5969011938023876,
"scale": 2256
},
{
"level": 6,
"resolution": 0.29818601303869274,
"scale": 1127
},
{
"level": 7,
"resolution": 0.14896071458809584,
"scale": 563
},
{
"level": 8,
"resolution": 0.0743480653627974,
"scale": 281
},
{
"level": 9,
"resolution": 0.03704174075014817,
"scale": 140
}
]
},
"initialExtent": {
"xmin": 328105.0747805472,
"ymin": 6235731.145741107,
"xmax": 346698.7970194527,
"ymax": 6249300.110658893,
"spatialReference": {
"wkid": 7856,
"latestWkid": 7856,
"xyTolerance": 0.001,
"zTolerance": 0.001,
"mTolerance": 0.001,
"falseX": -5120900,
"falseY": 1900,
"xyUnits": 10000,
"falseZ": -100000,
"zUnits": 10000,
"falseM": -100000,
"mUnits": 10000
}
},
"fullExtent": {
"xmin": 334612.1442999998,
"ymin": 6236349.8373,
"xmax": 340191.72750000004,
"ymax": 6248681.4191,
"spatialReference": {
"wkid": 7856,
"latestWkid": 7856,
"xyTolerance": 0.001,
"zTolerance": 0.001,
"mTolerance": 0.001,
"falseX": -5120900,
"falseY": 1900,
"xyUnits": 10000,
"falseZ": -100000,
"zUnits": 10000,
"falseM": -100000,
"mUnits": 10000
}
},
"minScale": 72223,
"maxScale": 281,
"minLOD": 0,
"maxLOD": 8,
"units": "esriMeters",
"supportedImageFormatTypes": "PNG32,PNG24,PNG,JPG,DIB,TIFF,EMF,PS,PDF,GIF,SVG,SVGZ,BMP",
"documentInfo": {
"Title": "2020TreeCanopy0point5mto2m",
"Author": "",
"Comments": " Map service of low vegetation (0.5<\/SPAN>m<\/SPAN> to 2m<\/SPAN>) - Data captured from Nearmap on <\/SPAN>21 Jan 2020<\/SPAN><\/P><\/DIV><\/DIV><\/DIV>",
"Subject": "Map service of low vegetation (0.5m to 2m) - Data captured from Nearmap on 21 Jan 2020",
"Category": "",
"AntialiasingMode": "None",
"TextAntialiasingMode": "Force",
"Keywords": "low vegetation (0.5m to 2m),Nearmap"
},
"capabilities": "Map,Query,Data",
"supportedQueryFormats": "JSON, geoJSON, PBF",
"exportTilesAllowed": false,
"referenceScale": 0.0,
"supportsDatumTransformation": true,
"archivingInfo": {"supportsHistoricMoment": false},
"supportsClipping": true,
"supportsSpatialFilter": true,
"supportsQueryDataElements": true,
"maxRecordCount": 2000,
"maxImageHeight": 4096,
"maxImageWidth": 4096,
"supportedExtensions": "",
"serviceItemId": "19400cd8c20b43bcbb018ad8928c8109"
}