View In:
ArcGIS JavaScript
ArcGIS Online Map Viewer
ArcGIS Earth
ArcMap
View Footprint In:
ArcGIS Online Map Viewer
Service Description: Image service shows aerial image 2014. The tiff and ect files were supplied by NSW land and property information under licence agreement. The aerial image was captured at January 2014 and the resolution is 0.1 metres. The original data locates at G:\Aerial Photography\2014\2014 JP2.
Name: intAerials/Aerial2014
Description: Image service shows aerial image 2014. The tiff and ect files were supplied by NSW land and property information under licence agreement. The aerial image was captured at January 2014 and the resolution is 0.1 metres. The original data locates at G:\Aerial Photography\2014\2014 JP2.
Single Fused Map Cache: true
Tile Info:
- Height: 256
- Width: 256
- DPI: 96
-
Levels of Detail: 21
-
Level ID: 1
[ Start Tile, End Tile ]
- Resolution: 78271.5169639999
- Scale: 2.95828763795777E8
-
Level ID: 2
[ Start Tile, End Tile ]
- Resolution: 39135.7584820001
- Scale: 1.47914381897889E8
-
Level ID: 3
[ Start Tile, End Tile ]
- Resolution: 19567.8792409999
- Scale: 7.3957190948944E7
-
Level ID: 4
[ Start Tile, End Tile ]
- Resolution: 9783.93962049996
- Scale: 3.6978595474472E7
-
Level ID: 5
[ Start Tile, End Tile ]
- Resolution: 4891.96981024998
- Scale: 1.8489297737236E7
- Format: PNG32
- Compression Quality: 0.0
- LERC Error: NaN
- Origin: X: -2.0037508342787E7
Y: 2.0037508342787E7
- Spatial Reference: 102100
(3857)
Extent:
XMin: 1.6831783704678852E7
YMin: -4029416.903661379
XMax: 1.6840480805300765E7
YMax: -4013545.7699221
Spatial Reference: 102100
(3857)
Initial Extent:
XMin: 1.6831783704678852E7
YMin: -4029416.903661379
XMax: 1.6840480805300765E7
YMax: -4013545.7699221
Spatial Reference: 102100
(3857)
Full Extent:
XMin: 1.6831783704678852E7
YMin: -4029416.903661379
XMax: 1.6840480805300765E7
YMax: -4013545.7699221
Spatial Reference: 102100
(3857)
Pixel Size X: 0.14929107082382292
Pixel Size Y: 0.14929107082380882
Band Count: 3
Pixel Type: U8
RasterFunction Infos: {"rasterFunctionInfos": [{
"name": "None",
"description": "",
"help": ""
}]}
Mensuration Capabilities: Basic
Has Histograms: false
Has Colormap: false
Has Multi Dimensions : false
Rendering Rule:
Min Scale: 72223.819286
Max Scale: 564.248588
Copyright Text: GIS section, Spatial Systems, Randwick City Council
Service Data Type: esriImageServiceDataTypeRGB
Min Values: N/A
Max Values: N/A
Mean Values: N/A
Standard Deviation Values: N/A
Object ID Field:
Fields:
None
Default Mosaic Method: Center
Allowed Mosaic Methods:
SortField:
SortValue: null
Mosaic Operator: First
Default Compression Quality: 75
Default Resampling Method: Bilinear
Max Record Count: null
Max Image Height: 4100
Max Image Width: 15000
Max Download Image Count: null
Max Mosaic Image Count: null
Allow Raster Function: true
Allow Copy: null
Allow Analysis: null
Allow Compute TiePoints: false
Supports Statistics: false
Supports Advanced Queries: false
Use StandardizedQueries: true
Raster Type Infos:
Name: Raster Dataset
Description: Supports all ArcGIS Raster Datasets
Help:
Has Raster Attribute Table: false
Edit Fields Info: null
Ownership Based AccessControl For Rasters: null
Child Resources:
Info
Key Properties
Legend
Raster Function Infos
Supported Operations:
Export Image
Identify
Measure
Compute Histograms
Compute Statistics Histograms
Get Samples
Compute Class Statistics
Query Boundary
Compute Pixel Location
Validate
Project